Package: BaseSpaceR
Version: 1.46.0
Maintainer: Jared O'Connell
MaintainerEmail: joconnell at illumina.com
git_url: https://git.bioconductor.org/packages/BaseSpaceR
git_branch: RELEASE_3_18
git_last_commit: 517fb8f
git_last_commit_date: 2023-10-24 09:53:23 -0400 (Tue, 24 Oct 2023)