Package: BeadDataPackR Version: 1.54.0 Command: /Library/Frameworks/R.framework/Resources/bin/R CMD build --keep-empty-dirs --no-resave-data BeadDataPackR StartedAt: 2024-04-16 14:03:00 -0400 (Tue, 16 Apr 2024) EndedAt: 2024-04-16 14:03:11 -0400 (Tue, 16 Apr 2024) EllapsedTime: 11.1 seconds RetCode: 0 Status: OK PackageFile: BeadDataPackR_1.54.0.tar.gz PackageFileSize: 235.4 KiB