Package: BioNAR Version: 1.4.4 Command: rm -rf BioNAR.buildbin-libdir && mkdir BioNAR.buildbin-libdir && /Users/biocbuild/BBS/utils/build-universal.sh BioNAR_1.4.4.tar.gz /Library/Frameworks/R.framework/Resources/bin/R BioNAR.buildbin-libdir StartedAt: 2024-04-18 08:25:39 -0400 (Thu, 18 Apr 2024) EndedAt: 2024-04-18 08:26:21 -0400 (Thu, 18 Apr 2024) EllapsedTime: 42.4 seconds RetCode: 0 Status: OK PackageFile: BioNAR_1.4.4.tgz PackageFileSize: 4.099 MiB