Package: BioNet Version: 1.62.0 Command: /Library/Frameworks/R.framework/Resources/bin/R CMD build --keep-empty-dirs --no-resave-data BioNet StartedAt: 2024-04-16 14:23:43 -0400 (Tue, 16 Apr 2024) EndedAt: 2024-04-16 14:24:50 -0400 (Tue, 16 Apr 2024) EllapsedTime: 67.4 seconds RetCode: 0 Status: OK PackageFile: BioNet_1.62.0.tar.gz PackageFileSize: 1.801 MiB