Package: BiocFileCache Version: 2.10.2 Command: rm -rf BiocFileCache.buildbin-libdir && mkdir BiocFileCache.buildbin-libdir && /Users/biocbuild/BBS/utils/build-universal.sh BiocFileCache_2.10.2.tar.gz /Library/Frameworks/R.framework/Resources/bin/R BiocFileCache.buildbin-libdir StartedAt: 2024-04-18 08:23:36 -0400 (Thu, 18 Apr 2024) EndedAt: 2024-04-18 08:23:49 -0400 (Thu, 18 Apr 2024) EllapsedTime: 12.5 seconds RetCode: 0 Status: OK PackageFile: BiocFileCache_2.10.2.tgz PackageFileSize: 515.7 KiB