Package: BiocNeighbors Version: 1.20.2 Command: /Library/Frameworks/R.framework/Resources/bin/R CMD build --keep-empty-dirs --no-resave-data BiocNeighbors StartedAt: 2024-04-16 14:14:51 -0400 (Tue, 16 Apr 2024) EndedAt: 2024-04-16 14:17:22 -0400 (Tue, 16 Apr 2024) EllapsedTime: 151.6 seconds RetCode: 0 Status: OK PackageFile: BiocNeighbors_1.20.2.tar.gz PackageFileSize: 1015 KiB