Package: BiocParallel
Version: 1.36.0
Command: /Library/Frameworks/R.framework/Resources/bin/R CMD check --install=check:BiocParallel.install-out.txt --library=/Library/Frameworks/R.framework/Resources/library --no-vignettes --timings BiocParallel_1.36.0.tar.gz
StartedAt: 2024-04-17 07:03:49 -0400 (Wed, 17 Apr 2024)
EndedAt: 2024-04-17 07:10:40 -0400 (Wed, 17 Apr 2024)
EllapsedTime: 411.0 seconds
RetCode: 0
Status: OK
CheckDir: BiocParallel.Rcheck
Warnings: 0