Package: BumpyMatrix
Version: 1.10.0
Command: /Library/Frameworks/R.framework/Resources/bin/R CMD INSTALL BumpyMatrix
StartedAt: 2024-04-16 10:09:33 -0400 (Tue, 16 Apr 2024)
EndedAt: 2024-04-16 10:09:50 -0400 (Tue, 16 Apr 2024)
EllapsedTime: 17.4 seconds
RetCode: 0
Status: OK