Package: CARNIVAL Version: 2.12.0 Command: rm -rf CARNIVAL.buildbin-libdir && mkdir CARNIVAL.buildbin-libdir && /Users/biocbuild/BBS/utils/build-universal.sh CARNIVAL_2.12.0.tar.gz /Library/Frameworks/R.framework/Resources/bin/R CARNIVAL.buildbin-libdir StartedAt: 2024-04-18 08:32:21 -0400 (Thu, 18 Apr 2024) EndedAt: 2024-04-18 08:32:31 -0400 (Thu, 18 Apr 2024) EllapsedTime: 10.3 seconds RetCode: 0 Status: OK PackageFile: CARNIVAL_2.12.0.tgz PackageFileSize: 413.9 KiB