Package: CARNIVAL Version: 2.12.0 Command: /Library/Frameworks/R.framework/Resources/bin/R CMD check --install=check:CARNIVAL.install-out.txt --library=/Library/Frameworks/R.framework/Resources/library --no-vignettes --timings CARNIVAL_2.12.0.tar.gz StartedAt: 2024-04-17 08:09:42 -0400 (Wed, 17 Apr 2024) EndedAt: 2024-04-17 08:10:36 -0400 (Wed, 17 Apr 2024) EllapsedTime: 54.4 seconds RetCode: 0 Status: OK CheckDir: CARNIVAL.Rcheck Warnings: 0