Package: CARNIVAL Version: 2.12.0 Command: /Library/Frameworks/R.framework/Resources/bin/R CMD INSTALL CARNIVAL StartedAt: 2024-04-16 11:24:13 -0400 (Tue, 16 Apr 2024) EndedAt: 2024-04-16 11:24:20 -0400 (Tue, 16 Apr 2024) EllapsedTime: 6.7 seconds RetCode: 0 Status: OK