Package: CCPROMISE Version: 1.28.0 Command: /Library/Frameworks/R.framework/Resources/bin/R CMD build --keep-empty-dirs --no-resave-data CCPROMISE StartedAt: 2024-04-16 14:52:53 -0400 (Tue, 16 Apr 2024) EndedAt: 2024-04-16 14:53:53 -0400 (Tue, 16 Apr 2024) EllapsedTime: 59.7 seconds RetCode: 0 Status: OK PackageFile: CCPROMISE_1.28.0.tar.gz PackageFileSize: 1.03 MiB