Package: CCPlotR Version: 1.0.0 Command: /Library/Frameworks/R.framework/Resources/bin/R CMD INSTALL CCPlotR StartedAt: 2024-04-16 11:05:59 -0400 (Tue, 16 Apr 2024) EndedAt: 2024-04-16 11:06:14 -0400 (Tue, 16 Apr 2024) EllapsedTime: 14.9 seconds RetCode: 0 Status: OK