Package: CEMiTool Version: 1.26.1 Command: /Library/Frameworks/R.framework/Resources/bin/R CMD check --install=check:CEMiTool.install-out.txt --library=/Library/Frameworks/R.framework/Resources/library --no-vignettes --timings CEMiTool_1.26.1.tar.gz StartedAt: 2024-04-17 08:29:08 -0400 (Wed, 17 Apr 2024) EndedAt: 2024-04-17 08:34:25 -0400 (Wed, 17 Apr 2024) EllapsedTime: 316.4 seconds RetCode: 0 Status: OK CheckDir: CEMiTool.Rcheck Warnings: 0