Package: CINdex Version: 1.30.0 Command: rm -rf CINdex.buildbin-libdir && mkdir CINdex.buildbin-libdir && /Users/biocbuild/BBS/utils/build-universal.sh CINdex_1.30.0.tar.gz /Library/Frameworks/R.framework/Resources/bin/R CINdex.buildbin-libdir StartedAt: 2024-04-18 08:40:29 -0400 (Thu, 18 Apr 2024) EndedAt: 2024-04-18 08:41:15 -0400 (Thu, 18 Apr 2024) EllapsedTime: 45.5 seconds RetCode: 0 Status: OK PackageFile: CINdex_1.30.0.tgz PackageFileSize: 18.03 MiB