Package: CINdex Version: 1.30.0 Command: /Library/Frameworks/R.framework/Resources/bin/R CMD build --keep-empty-dirs --no-resave-data CINdex StartedAt: 2024-04-16 15:26:50 -0400 (Tue, 16 Apr 2024) EndedAt: 2024-04-16 15:33:03 -0400 (Tue, 16 Apr 2024) EllapsedTime: 373.0 seconds RetCode: 0 Status: OK PackageFile: CINdex_1.30.0.tar.gz PackageFileSize: 12.58 MiB