Package: CINdex Version: 1.30.0 Command: /Library/Frameworks/R.framework/Resources/bin/R CMD INSTALL CINdex StartedAt: 2024-04-16 10:17:25 -0400 (Tue, 16 Apr 2024) EndedAt: 2024-04-16 10:18:02 -0400 (Tue, 16 Apr 2024) EllapsedTime: 37.2 seconds RetCode: 0 Status: OK