Package: CNEr Version: 1.38.0 Maintainer: Ge Tan MaintainerEmail: ge_tan at live.com git_url: https://git.bioconductor.org/packages/CNEr git_branch: RELEASE_3_18 git_last_commit: 50955a0 git_last_commit_date: 2023-10-24 09:57:27 -0400 (Tue, 24 Oct 2023)