Package: CNVRanger
Version: 1.18.1
Command: rm -rf CNVRanger.buildbin-libdir && mkdir CNVRanger.buildbin-libdir && /Users/biocbuild/BBS/utils/build-universal.sh CNVRanger_1.18.1.tar.gz /Library/Frameworks/R.framework/Resources/bin/R CNVRanger.buildbin-libdir
StartedAt: 2024-04-18 08:43:52 -0400 (Thu, 18 Apr 2024)
EndedAt: 2024-04-18 08:44:29 -0400 (Thu, 18 Apr 2024)
EllapsedTime: 36.5 seconds
RetCode: 0
Status: OK
PackageFile: CNVRanger_1.18.1.tgz
PackageFileSize: 2.065 <A href="http://en.wikipedia.org/wiki/MiB" target="_blank">MiB</A>