Package: CNVrd2 Version: 1.40.0 Command: /Library/Frameworks/R.framework/Resources/bin/R CMD build --keep-empty-dirs --no-resave-data CNVrd2 StartedAt: 2024-04-16 15:45:19 -0400 (Tue, 16 Apr 2024) EndedAt: 2024-04-16 15:47:02 -0400 (Tue, 16 Apr 2024) EllapsedTime: 102.5 seconds RetCode: 0 Status: OK PackageFile: CNVrd2_1.40.0.tar.gz PackageFileSize: 2.826 MiB