Package: CNVrd2 Version: 1.40.0 Command: /Library/Frameworks/R.framework/Resources/bin/R CMD check --install=check:CNVrd2.install-out.txt --library=/Library/Frameworks/R.framework/Resources/library --no-vignettes --timings CNVrd2_1.40.0.tar.gz StartedAt: 2024-04-17 09:39:08 -0400 (Wed, 17 Apr 2024) EndedAt: 2024-04-17 09:42:41 -0400 (Wed, 17 Apr 2024) EllapsedTime: 212.6 seconds RetCode: 0 Status: OK CheckDir: CNVrd2.Rcheck Warnings: 0