Package: COTAN Version: 2.2.3 Command: /Library/Frameworks/R.framework/Resources/bin/R CMD check --install=check:COTAN.install-out.txt --library=/Library/Frameworks/R.framework/Resources/library --no-vignettes --timings COTAN_2.2.3.tar.gz StartedAt: 2024-03-06 10:10:47 -0500 (Wed, 06 Mar 2024) EndedAt: 2024-03-06 10:32:51 -0500 (Wed, 06 Mar 2024) EllapsedTime: 1324.5 seconds RetCode: 0 Status: OK CheckDir: COTAN.Rcheck Warnings: 0