Package: CRISPRseek Version: 1.42.0 Command: /Library/Frameworks/R.framework/Resources/bin/R CMD INSTALL CRISPRseek StartedAt: 2024-04-16 10:54:41 -0400 (Tue, 16 Apr 2024) EndedAt: 2024-04-16 10:55:29 -0400 (Tue, 16 Apr 2024) EllapsedTime: 48.0 seconds RetCode: 0 Status: OK