Package: CSAR Version: 1.54.0 Command: /Library/Frameworks/R.framework/Resources/bin/R CMD INSTALL CSAR StartedAt: 2024-04-16 10:16:53 -0400 (Tue, 16 Apr 2024) EndedAt: 2024-04-16 10:17:07 -0400 (Tue, 16 Apr 2024) EllapsedTime: 14.1 seconds RetCode: 0 Status: OK