Package: CTSV Version: 1.4.0 Maintainer: Jinge Yu Developer MaintainerEmail: yjgruc at ruc.edu.cn git_url: https://git.bioconductor.org/packages/CTSV git_branch: RELEASE_3_18 git_last_commit: c5da80c git_last_commit_date: 2023-10-24 11:42:40 -0400 (Tue, 24 Oct 2023)