Package: Cardinal Version: 3.4.3 Command: rm -rf Cardinal.buildbin-libdir && mkdir Cardinal.buildbin-libdir && /Users/biocbuild/BBS/utils/build-universal.sh Cardinal_3.4.3.tar.gz /Library/Frameworks/R.framework/Resources/bin/R Cardinal.buildbin-libdir StartedAt: 2024-04-18 08:32:08 -0400 (Thu, 18 Apr 2024) EndedAt: 2024-04-18 08:33:04 -0400 (Thu, 18 Apr 2024) EllapsedTime: 56.6 seconds RetCode: 0 Status: OK PackageFile: Cardinal_3.4.3.tgz PackageFileSize: 4.84 MiB