Package: Cardinal Version: 3.4.3 Command: /Library/Frameworks/R.framework/Resources/bin/R CMD build --keep-empty-dirs --no-resave-data Cardinal StartedAt: 2024-04-16 14:46:46 -0400 (Tue, 16 Apr 2024) EndedAt: 2024-04-16 14:48:56 -0400 (Tue, 16 Apr 2024) EllapsedTime: 130.3 seconds RetCode: 0 Status: OK PackageFile: Cardinal_3.4.3.tar.gz PackageFileSize: 3.802 MiB