Package: Cardinal Version: 3.4.3 Command: /Library/Frameworks/R.framework/Resources/bin/R CMD check --install=check:Cardinal.install-out.txt --library=/Library/Frameworks/R.framework/Resources/library --no-vignettes --timings Cardinal_3.4.3.tar.gz StartedAt: 2024-04-17 08:05:35 -0400 (Wed, 17 Apr 2024) EndedAt: 2024-04-17 08:09:42 -0400 (Wed, 17 Apr 2024) EllapsedTime: 246.7 seconds RetCode: 0 Status: OK CheckDir: Cardinal.Rcheck Warnings: 0