Package: Cardinal Version: 3.4.3 Command: /Library/Frameworks/R.framework/Resources/bin/R CMD INSTALL Cardinal StartedAt: 2024-04-16 11:25:08 -0400 (Tue, 16 Apr 2024) EndedAt: 2024-04-16 11:25:50 -0400 (Tue, 16 Apr 2024) EllapsedTime: 42.3 seconds RetCode: 0 Status: OK