Package: CausalR Version: 1.34.0 Command: rm -rf CausalR.buildbin-libdir && mkdir CausalR.buildbin-libdir && /Users/biocbuild/BBS/utils/build-universal.sh CausalR_1.34.0.tar.gz /Library/Frameworks/R.framework/Resources/bin/R CausalR.buildbin-libdir StartedAt: 2024-04-18 08:32:38 -0400 (Thu, 18 Apr 2024) EndedAt: 2024-04-18 08:32:46 -0400 (Thu, 18 Apr 2024) EllapsedTime: 8.0 seconds RetCode: 0 Status: OK PackageFile: CausalR_1.34.0.tgz PackageFileSize: 636.8 KiB