Package: CausalR Version: 1.34.0 Command: /Library/Frameworks/R.framework/Resources/bin/R CMD build --keep-empty-dirs --no-resave-data CausalR StartedAt: 2024-04-16 14:49:41 -0400 (Tue, 16 Apr 2024) EndedAt: 2024-04-16 14:50:46 -0400 (Tue, 16 Apr 2024) EllapsedTime: 65.4 seconds RetCode: 0 Status: OK PackageFile: CausalR_1.34.0.tar.gz PackageFileSize: 573.7 KiB