Package: CausalR Version: 1.34.0 Command: /Library/Frameworks/R.framework/Resources/bin/R CMD check --install=check:CausalR.install-out.txt --library=/Library/Frameworks/R.framework/Resources/library --no-vignettes --timings CausalR_1.34.0.tar.gz StartedAt: 2024-04-17 08:10:37 -0400 (Wed, 17 Apr 2024) EndedAt: 2024-04-17 08:11:17 -0400 (Wed, 17 Apr 2024) EllapsedTime: 40.4 seconds RetCode: 0 Status: OK CheckDir: CausalR.Rcheck Warnings: 0