Package: CausalR Version: 1.34.0 Command: /Library/Frameworks/R.framework/Resources/bin/R CMD INSTALL CausalR StartedAt: 2024-04-16 10:07:24 -0400 (Tue, 16 Apr 2024) EndedAt: 2024-04-16 10:07:31 -0400 (Tue, 16 Apr 2024) EllapsedTime: 7.2 seconds RetCode: 0 Status: OK