Package: CellMixS Version: 1.18.0 Command: rm -rf CellMixS.buildbin-libdir && mkdir CellMixS.buildbin-libdir && /Users/biocbuild/BBS/utils/build-universal.sh CellMixS_1.18.0.tar.gz /Library/Frameworks/R.framework/Resources/bin/R CellMixS.buildbin-libdir StartedAt: 2024-04-18 08:34:53 -0400 (Thu, 18 Apr 2024) EndedAt: 2024-04-18 08:35:38 -0400 (Thu, 18 Apr 2024) EllapsedTime: 45.0 seconds RetCode: 0 Status: OK PackageFile: CellMixS_1.18.0.tgz PackageFileSize: 4.212 MiB