Package: CellMixS Version: 1.18.0 Command: /Library/Frameworks/R.framework/Resources/bin/R CMD build --keep-empty-dirs --no-resave-data CellMixS StartedAt: 2024-04-16 15:01:30 -0400 (Tue, 16 Apr 2024) EndedAt: 2024-04-16 15:04:13 -0400 (Tue, 16 Apr 2024) EllapsedTime: 162.8 seconds RetCode: 0 Status: OK PackageFile: CellMixS_1.18.0.tar.gz PackageFileSize: 4.125 MiB