Package: CellNOptR Version: 1.48.0 Command: /Library/Frameworks/R.framework/Resources/bin/R CMD build --keep-empty-dirs --no-resave-data CellNOptR StartedAt: 2024-04-16 15:01:48 -0400 (Tue, 16 Apr 2024) EndedAt: 2024-04-16 15:02:17 -0400 (Tue, 16 Apr 2024) EllapsedTime: 29.8 seconds RetCode: 0 Status: OK PackageFile: CellNOptR_1.48.0.tar.gz PackageFileSize: 3.589 <A href="http://en.wikipedia.org/wiki/MiB" target="_blank">MiB</A>