Package: CellaRepertorium Version: 1.12.0 Command: rm -rf CellaRepertorium.buildbin-libdir && mkdir CellaRepertorium.buildbin-libdir && /Users/biocbuild/BBS/utils/build-universal.sh CellaRepertorium_1.12.0.tar.gz /Library/Frameworks/R.framework/Resources/bin/R CellaRepertorium.buildbin-libdir StartedAt: 2024-04-18 08:33:51 -0400 (Thu, 18 Apr 2024) EndedAt: 2024-04-18 08:34:46 -0400 (Thu, 18 Apr 2024) EllapsedTime: 54.4 seconds RetCode: 0 Status: OK PackageFile: CellaRepertorium_1.12.0.tgz PackageFileSize: 4.961 MiB