Package: CellaRepertorium Version: 1.12.0 Command: /Library/Frameworks/R.framework/Resources/bin/R CMD INSTALL CellaRepertorium StartedAt: 2024-04-16 10:18:38 -0400 (Tue, 16 Apr 2024) EndedAt: 2024-04-16 10:19:17 -0400 (Tue, 16 Apr 2024) EllapsedTime: 39.4 seconds RetCode: 0 Status: OK