Package: CelliD Version: 1.10.1 Command: /Library/Frameworks/R.framework/Resources/bin/R CMD check --install=check:CelliD.install-out.txt --library=/Library/Frameworks/R.framework/Resources/library --no-vignettes --timings CelliD_1.10.1.tar.gz StartedAt: 2024-04-17 08:23:23 -0400 (Wed, 17 Apr 2024) EndedAt: 2024-04-17 08:29:56 -0400 (Wed, 17 Apr 2024) EllapsedTime: 393.1 seconds RetCode: 0 Status: WARNINGS CheckDir: CelliD.Rcheck Warnings: 1