Package: CelliD Version: 1.10.1 Command: /Library/Frameworks/R.framework/Resources/bin/R CMD INSTALL CelliD StartedAt: 2024-04-16 12:26:54 -0400 (Tue, 16 Apr 2024) EndedAt: 2024-04-16 12:28:15 -0400 (Tue, 16 Apr 2024) EllapsedTime: 81.5 seconds RetCode: 0 Status: OK