Package: ChAMP Version: 2.32.0 Command: /Library/Frameworks/R.framework/Resources/bin/R CMD build --keep-empty-dirs --no-resave-data ChAMP StartedAt: 2024-04-16 15:10:09 -0400 (Tue, 16 Apr 2024) EndedAt: 2024-04-16 15:12:46 -0400 (Tue, 16 Apr 2024) EllapsedTime: 156.9 seconds RetCode: 0 Status: OK PackageFile: ChAMP_2.32.0.tar.gz PackageFileSize: 7.966 MiB