Package: ChIPXpress Version: 1.46.0 Command: /Library/Frameworks/R.framework/Resources/bin/R CMD check --install=check:ChIPXpress.install-out.txt --library=/Library/Frameworks/R.framework/Resources/library --no-vignettes --timings ChIPXpress_1.46.0.tar.gz StartedAt: 2024-04-17 08:57:42 -0400 (Wed, 17 Apr 2024) EndedAt: 2024-04-17 09:02:03 -0400 (Wed, 17 Apr 2024) EllapsedTime: 261.1 seconds RetCode: 0 Status: OK CheckDir: ChIPXpress.Rcheck Warnings: 0