Package: ClusterJudge Version: 1.24.0 Command: rm -rf ClusterJudge.buildbin-libdir && mkdir ClusterJudge.buildbin-libdir && /Users/biocbuild/BBS/utils/build-universal.sh ClusterJudge_1.24.0.tar.gz /Library/Frameworks/R.framework/Resources/bin/R ClusterJudge.buildbin-libdir StartedAt: 2024-04-18 08:42:01 -0400 (Thu, 18 Apr 2024) EndedAt: 2024-04-18 08:42:10 -0400 (Thu, 18 Apr 2024) EllapsedTime: 9.0 seconds RetCode: 0 Status: OK PackageFile: ClusterJudge_1.24.0.tgz PackageFileSize: 4.313 MiB