Package: Cormotif Version: 1.48.0 Command: rm -rf Cormotif.buildbin-libdir && mkdir Cormotif.buildbin-libdir && /Users/biocbuild/BBS/utils/build-universal.sh Cormotif_1.48.0.tar.gz /Library/Frameworks/R.framework/Resources/bin/R Cormotif.buildbin-libdir StartedAt: 2024-04-18 08:48:36 -0400 (Thu, 18 Apr 2024) EndedAt: 2024-04-18 08:48:44 -0400 (Thu, 18 Apr 2024) EllapsedTime: 8.0 seconds RetCode: 0 Status: OK PackageFile: Cormotif_1.48.0.tgz PackageFileSize: 429.8 KiB