Package: Cormotif Version: 1.48.0 Command: /Library/Frameworks/R.framework/Resources/bin/R CMD check --install=check:Cormotif.install-out.txt --library=/Library/Frameworks/R.framework/Resources/library --no-vignettes --timings Cormotif_1.48.0.tar.gz StartedAt: 2024-04-17 10:11:52 -0400 (Wed, 17 Apr 2024) EndedAt: 2024-04-17 10:12:40 -0400 (Wed, 17 Apr 2024) EllapsedTime: 47.5 seconds RetCode: 0 Status: OK CheckDir: Cormotif.Rcheck Warnings: 0