Package: CuratedAtlasQueryR Version: 1.0.1 Command: /Library/Frameworks/R.framework/Resources/bin/R CMD build --keep-empty-dirs --no-resave-data CuratedAtlasQueryR StartedAt: 2024-04-16 16:25:45 -0400 (Tue, 16 Apr 2024) EndedAt: 2024-04-16 16:28:30 -0400 (Tue, 16 Apr 2024) EllapsedTime: 164.9 seconds RetCode: 0 Status: OK PackageFile: CuratedAtlasQueryR_1.0.1.tar.gz PackageFileSize: 967 KiB