Package: DESeq2 Version: 1.42.1 Command: rm -rf DESeq2.buildbin-libdir && mkdir DESeq2.buildbin-libdir && /Users/biocbuild/BBS/utils/build-universal.sh DESeq2_1.42.1.tar.gz /Library/Frameworks/R.framework/Resources/bin/R DESeq2.buildbin-libdir StartedAt: 2024-04-18 09:00:08 -0400 (Thu, 18 Apr 2024) EndedAt: 2024-04-18 09:01:19 -0400 (Thu, 18 Apr 2024) EllapsedTime: 70.9 seconds RetCode: 0 Status: OK PackageFile: DESeq2_1.42.1.tgz PackageFileSize: 3.9 MiB