Package: DESeq2 Version: 1.42.1 Command: /Library/Frameworks/R.framework/Resources/bin/R CMD check --install=check:DESeq2.install-out.txt --library=/Library/Frameworks/R.framework/Resources/library --no-vignettes --timings DESeq2_1.42.1.tar.gz StartedAt: 2024-04-17 11:45:08 -0400 (Wed, 17 Apr 2024) EndedAt: 2024-04-17 11:52:33 -0400 (Wed, 17 Apr 2024) EllapsedTime: 444.0 seconds RetCode: 0 Status: OK CheckDir: DESeq2.Rcheck Warnings: 0