Package: DEWSeq Version: 1.16.2 Command: /Library/Frameworks/R.framework/Resources/bin/R CMD INSTALL DEWSeq StartedAt: 2024-04-16 10:50:32 -0400 (Tue, 16 Apr 2024) EndedAt: 2024-04-16 10:51:05 -0400 (Tue, 16 Apr 2024) EllapsedTime: 33.3 seconds RetCode: 0 Status: OK