Package: DEsingle Version: 1.22.0 Command: /Library/Frameworks/R.framework/Resources/bin/R CMD build --keep-empty-dirs --no-resave-data DEsingle StartedAt: 2024-04-16 16:59:57 -0400 (Tue, 16 Apr 2024) EndedAt: 2024-04-16 17:00:12 -0400 (Tue, 16 Apr 2024) EllapsedTime: 14.9 seconds RetCode: 0 Status: OK PackageFile: DEsingle_1.22.0.tar.gz PackageFileSize: 380.4 KiB